Package: eisaR Version: 1.18.0 Command: F:\biocbuild\bbs-3.20-bioc\R\bin\R.exe CMD check --no-multiarch --install=check:eisaR.install-out.txt --library=F:\biocbuild\bbs-3.20-bioc\R\library --no-vignettes --timings eisaR_1.18.0.tar.gz StartedAt: 2025-02-04 01:30:59 -0500 (Tue, 04 Feb 2025) EndedAt: 2025-02-04 01:35:47 -0500 (Tue, 04 Feb 2025) EllapsedTime: 287.7 seconds RetCode: 0 Status: OK CheckDir: eisaR.Rcheck Warnings: 0