Package: ensembldb Version: 2.30.0 Command: F:\biocbuild\bbs-3.20-bioc\R\bin\R.exe CMD INSTALL ensembldb StartedAt: 2025-02-03 16:38:29 -0500 (Mon, 03 Feb 2025) EndedAt: 2025-02-03 16:39:57 -0500 (Mon, 03 Feb 2025) EllapsedTime: 87.9 seconds RetCode: 0 Status: OK