Package: escape Version: 2.2.3 Command: /home/biocbuild/R/R/bin/R CMD INSTALL escape StartedAt: 2025-02-03 21:16:07 -0000 (Mon, 03 Feb 2025) EndedAt: 2025-02-03 21:17:00 -0000 (Mon, 03 Feb 2025) EllapsedTime: 53.4 seconds RetCode: 0 Status: OK