Package: escheR Version: 1.6.0 Command: F:\biocbuild\bbs-3.20-bioc\R\bin\R.exe CMD INSTALL escheR StartedAt: 2025-01-30 16:43:53 -0500 (Thu, 30 Jan 2025) EndedAt: 2025-01-30 16:44:23 -0500 (Thu, 30 Jan 2025) EllapsedTime: 30.0 seconds RetCode: 0 Status: OK