Package: getDEE2 Version: 1.16.2 Command: rm -rf getDEE2.buildbin-libdir && mkdir getDEE2.buildbin-libdir && /Users/biocbuild/BBS/utils/build-universal.sh getDEE2_1.16.2.tar.gz /Library/Frameworks/R.framework/Resources/bin/R getDEE2.buildbin-libdir StartedAt: 2025-01-31 12:53:42 -0500 (Fri, 31 Jan 2025) EndedAt: 2025-01-31 12:54:25 -0500 (Fri, 31 Jan 2025) EllapsedTime: 43.2 seconds RetCode: 0 Status: OK PackageFile: getDEE2_1.16.2.tgz PackageFileSize: 72.4 KiB