Package: getDEE2 Version: 1.16.2 Command: /Library/Frameworks/R.framework/Resources/bin/R CMD build --keep-empty-dirs --no-resave-data getDEE2 StartedAt: 2025-02-03 19:13:48 -0500 (Mon, 03 Feb 2025) EndedAt: 2025-02-03 19:15:36 -0500 (Mon, 03 Feb 2025) EllapsedTime: 108.2 seconds RetCode: 0 Status: OK PackageFile: getDEE2_1.16.2.tar.gz PackageFileSize: 21.7 KiB