Package: getDEE2 Version: 1.16.2 Command: /Library/Frameworks/R.framework/Resources/bin/R CMD INSTALL getDEE2 StartedAt: 2025-01-30 15:18:49 -0500 (Thu, 30 Jan 2025) EndedAt: 2025-01-30 15:19:33 -0500 (Thu, 30 Jan 2025) EllapsedTime: 44.5 seconds RetCode: 0 Status: OK