Package: geva Version: 1.14.0 Command: /Library/Frameworks/R.framework/Resources/bin/R CMD INSTALL geva StartedAt: 2025-02-13 15:10:44 -0500 (Thu, 13 Feb 2025) EndedAt: 2025-02-13 15:10:52 -0500 (Thu, 13 Feb 2025) EllapsedTime: 8.1 seconds RetCode: 0 Status: OK