Package: groHMM Version: 1.40.3 Command: /Library/Frameworks/R.framework/Resources/bin/R CMD build --keep-empty-dirs --no-resave-data groHMM StartedAt: 2025-01-31 01:01:14 -0500 (Fri, 31 Jan 2025) EndedAt: 2025-01-31 01:03:42 -0500 (Fri, 31 Jan 2025) EllapsedTime: 147.5 seconds RetCode: 0 Status: OK PackageFile: groHMM_1.40.3.tar.gz PackageFileSize: 4.153 MiB