Package: iCARE Version: 1.34.0 Command: /Library/Frameworks/R.framework/Resources/bin/R CMD INSTALL iCARE StartedAt: 2025-02-03 16:06:46 -0500 (Mon, 03 Feb 2025) EndedAt: 2025-02-03 16:07:04 -0500 (Mon, 03 Feb 2025) EllapsedTime: 17.2 seconds RetCode: 0 Status: OK