Package: les Version: 1.56.0 Command: /Library/Frameworks/R.framework/Resources/bin/R CMD INSTALL les StartedAt: 2025-02-03 15:14:12 -0500 (Mon, 03 Feb 2025) EndedAt: 2025-02-03 15:14:16 -0500 (Mon, 03 Feb 2025) EllapsedTime: 4.7 seconds RetCode: 0 Status: OK