Package: microbiome Version: 1.28.0 Command: chmod a+r microbiome -R && F:\biocbuild\bbs-3.20-bioc\R\bin\R.exe CMD build --keep-empty-dirs --no-resave-data microbiome StartedAt: 2025-02-03 20:20:44 -0500 (Mon, 03 Feb 2025) EndedAt: 2025-02-03 20:22:01 -0500 (Mon, 03 Feb 2025) EllapsedTime: 76.4 seconds RetCode: 0 Status: OK PackageFile: microbiome_1.28.0.tar.gz PackageFileSize: 714 KiB