Package: microbiome Version: 1.28.0 Command: /home/biocbuild/R/R/bin/R CMD INSTALL microbiome StartedAt: 2025-02-03 21:10:45 -0000 (Mon, 03 Feb 2025) EndedAt: 2025-02-03 21:11:14 -0000 (Mon, 03 Feb 2025) EllapsedTime: 28.7 seconds RetCode: 0 Status: OK