Package: motifcounter Version: 1.30.0 Command: /home/biocbuild/bbs-3.20-bioc/R/bin/R CMD INSTALL motifcounter StartedAt: 2025-02-03 15:22:03 -0500 (Mon, 03 Feb 2025) EndedAt: 2025-02-03 15:22:16 -0500 (Mon, 03 Feb 2025) EllapsedTime: 12.4 seconds RetCode: 0 Status: OK