Package: nipalsMCIA Version: 1.4.3 Maintainer: Maximilian Mattessich MaintainerEmail: maximilian.mattessich at northwestern.edu git_url: https://git.bioconductor.org/packages/nipalsMCIA git_branch: RELEASE_3_20 git_last_commit: 64795f3 git_last_commit_date: 2025-02-05 16:02:24 -0500 (Wed, 05 Feb 2025)