Package: nipalsMCIA Version: 1.4.2 Command: /Library/Frameworks/R.framework/Resources/bin/R CMD check --install=check:nipalsMCIA.install-out.txt --library=/Library/Frameworks/R.framework/Resources/library --no-vignettes --timings nipalsMCIA_1.4.2.tar.gz StartedAt: 2025-02-04 07:15:43 -0500 (Tue, 04 Feb 2025) EndedAt: 2025-02-04 07:25:24 -0500 (Tue, 04 Feb 2025) EllapsedTime: 581.1 seconds RetCode: 0 Status: OK CheckDir: nipalsMCIA.Rcheck Warnings: 0