Package: octad Version: 1.8.0 Command: /Library/Frameworks/R.framework/Resources/bin/R CMD build --keep-empty-dirs --no-resave-data octad StartedAt: 2025-01-31 04:43:31 -0500 (Fri, 31 Jan 2025) EndedAt: 2025-01-31 04:48:29 -0500 (Fri, 31 Jan 2025) EllapsedTime: 298.0 seconds RetCode: 0 Status: OK PackageFile: octad_1.8.0.tar.gz PackageFileSize: 1.428 MiB