Package: omada Version: 1.8.0 Command: chmod a+r omada -R && F:\biocbuild\bbs-3.20-bioc\R\bin\R.exe CMD build --keep-empty-dirs --no-resave-data omada StartedAt: 2025-02-03 20:52:54 -0500 (Mon, 03 Feb 2025) EndedAt: 2025-02-03 20:56:03 -0500 (Mon, 03 Feb 2025) EllapsedTime: 189.5 seconds RetCode: 0 Status: OK PackageFile: omada_1.8.0.tar.gz PackageFileSize: 83.19 KiB