Package: plasmut Version: 1.4.0 Command: rm -rf plasmut.buildbin-libdir && mkdir plasmut.buildbin-libdir && /Users/biocbuild/BBS/utils/build-universal.sh plasmut_1.4.0.tar.gz /Library/Frameworks/R.framework/Resources/bin/R plasmut.buildbin-libdir StartedAt: 2025-02-05 17:08:39 -0500 (Wed, 05 Feb 2025) EndedAt: 2025-02-05 17:08:44 -0500 (Wed, 05 Feb 2025) EllapsedTime: 4.6 seconds RetCode: 0 Status: OK PackageFile: plasmut_1.4.0.tgz PackageFileSize: 352 KiB