Package: pvac Version: 1.54.0 Command: chmod a+r pvac -R && F:\biocbuild\bbs-3.20-bioc\R\bin\R.exe CMD build --keep-empty-dirs --no-resave-data pvac StartedAt: 2025-02-03 21:24:13 -0500 (Mon, 03 Feb 2025) EndedAt: 2025-02-03 21:25:09 -0500 (Mon, 03 Feb 2025) EllapsedTime: 56.1 seconds RetCode: 0 Status: OK PackageFile: pvac_1.54.0.tar.gz PackageFileSize: 129.4 KiB