Package: pvac Version: 1.54.0 Command: F:\biocbuild\bbs-3.20-bioc\R\bin\R.exe CMD check --no-multiarch --install=check:pvac.install-out.txt --library=F:\biocbuild\bbs-3.20-bioc\R\library --no-vignettes --timings pvac_1.54.0.tar.gz StartedAt: 2025-02-04 05:08:32 -0500 (Tue, 04 Feb 2025) EndedAt: 2025-02-04 05:09:24 -0500 (Tue, 04 Feb 2025) EllapsedTime: 52.1 seconds RetCode: 0 Status: OK CheckDir: pvac.Rcheck Warnings: 0