Package: qckitfastq Version: 1.22.0 Command: /Library/Frameworks/R.framework/Resources/bin/R CMD build --keep-empty-dirs --no-resave-data qckitfastq StartedAt: 2025-02-03 21:27:39 -0500 (Mon, 03 Feb 2025) EndedAt: 2025-02-03 21:29:10 -0500 (Mon, 03 Feb 2025) EllapsedTime: 90.2 seconds RetCode: 0 Status: OK PackageFile: qckitfastq_1.22.0.tar.gz PackageFileSize: 978.7 KiB