Package: quantiseqr Version: 1.14.0 Maintainer: Federico Marini MaintainerEmail: marinif at uni-mainz.de git_url: https://git.bioconductor.org/packages/quantiseqr git_branch: RELEASE_3_20 git_last_commit: 4b19746 git_last_commit_date: 2024-10-29 10:59:11 -0500 (Tue, 29 Oct 2024)