Package: rGREAT Version: 2.8.0 Command: /Library/Frameworks/R.framework/Resources/bin/R CMD build --keep-empty-dirs --no-resave-data rGREAT StartedAt: 2025-02-04 06:34:39 -0500 (Tue, 04 Feb 2025) EndedAt: 2025-02-04 06:35:43 -0500 (Tue, 04 Feb 2025) EllapsedTime: 64.3 seconds RetCode: 0 Status: OK PackageFile: rGREAT_2.8.0.tar.gz PackageFileSize: 2.754 MiB