Package: regionalpcs Version: 1.4.0 Command: rm -rf regionalpcs.buildbin-libdir && mkdir regionalpcs.buildbin-libdir && /Users/biocbuild/BBS/utils/build-universal.sh regionalpcs_1.4.0.tar.gz /Library/Frameworks/R.framework/Resources/bin/R regionalpcs.buildbin-libdir StartedAt: 2025-02-05 17:20:58 -0500 (Wed, 05 Feb 2025) EndedAt: 2025-02-05 17:21:02 -0500 (Wed, 05 Feb 2025) EllapsedTime: 3.5 seconds RetCode: 0 Status: OK PackageFile: regionalpcs_1.4.0.tgz PackageFileSize: 476.6 KiB