Package: rfaRm Version: 1.18.0 Command: rm -rf rfaRm.buildbin-libdir && mkdir rfaRm.buildbin-libdir && /Users/biocbuild/BBS/utils/build-universal.sh rfaRm_1.18.0.tar.gz /Library/Frameworks/R.framework/Resources/bin/R rfaRm.buildbin-libdir StartedAt: 2025-02-14 15:35:18 -0500 (Fri, 14 Feb 2025) EndedAt: 2025-02-14 15:35:46 -0500 (Fri, 14 Feb 2025) EllapsedTime: 28.7 seconds RetCode: 0 Status: OK PackageFile: rfaRm_1.18.0.tgz PackageFileSize: 596.3 KiB