Package: sampleClassifier Version: 1.30.0 Command: /home/biocbuild/R/R/bin/R CMD build --keep-empty-dirs --no-resave-data sampleClassifier StartedAt: 2025-01-31 02:22:08 -0000 (Fri, 31 Jan 2025) EndedAt: 2025-01-31 02:24:38 -0000 (Fri, 31 Jan 2025) EllapsedTime: 150.1 seconds RetCode: 0 Status: OK PackageFile: sampleClassifier_1.30.0.tar.gz PackageFileSize: 230 KiB