Package: scider Version: 1.4.0 Command: /home/biocbuild/bbs-3.20-bioc/R/bin/R CMD INSTALL scider StartedAt: 2025-01-30 15:56:18 -0500 (Thu, 30 Jan 2025) EndedAt: 2025-01-30 15:56:48 -0500 (Thu, 30 Jan 2025) EllapsedTime: 30.1 seconds RetCode: 0 Status: OK