Package: scp Version: 1.16.0 Command: chmod a+r scp -R && F:\biocbuild\bbs-3.20-bioc\R\bin\R.exe CMD build --keep-empty-dirs --no-resave-data scp StartedAt: 2025-02-03 21:59:38 -0500 (Mon, 03 Feb 2025) EndedAt: 2025-02-03 22:05:53 -0500 (Mon, 03 Feb 2025) EllapsedTime: 374.8 seconds RetCode: 0 Status: OK PackageFile: scp_1.16.0.tar.gz PackageFileSize: 6.693 MiB