Package: sights Version: 1.32.0 Command: /Library/Frameworks/R.framework/Resources/bin/R CMD build --keep-empty-dirs --no-resave-data sights StartedAt: 2025-02-03 22:22:09 -0500 (Mon, 03 Feb 2025) EndedAt: 2025-02-03 22:23:26 -0500 (Mon, 03 Feb 2025) EllapsedTime: 76.2 seconds RetCode: 0 Status: OK PackageFile: sights_1.32.0.tar.gz PackageFileSize: 5.805 MiB