Package: sigsquared Version: 1.38.0 Command: /Library/Frameworks/R.framework/Resources/bin/R CMD check --install=check:sigsquared.install-out.txt --library=/Library/Frameworks/R.framework/Resources/library --no-vignettes --timings sigsquared_1.38.0.tar.gz StartedAt: 2025-02-04 10:13:00 -0500 (Tue, 04 Feb 2025) EndedAt: 2025-02-04 10:15:15 -0500 (Tue, 04 Feb 2025) EllapsedTime: 134.5 seconds RetCode: 0 Status: OK CheckDir: sigsquared.Rcheck Warnings: 0