Package: singleCellTK Version: 2.16.1 Maintainer: Joshua David Campbell MaintainerEmail: camp at bu.edu git_url: https://git.bioconductor.org/packages/singleCellTK git_branch: RELEASE_3_20 git_last_commit: e7e94ca1 git_last_commit_date: 2025-02-13 11:47:56 -0500 (Thu, 13 Feb 2025)