Package: timescape Version: 1.30.0 Command: /Library/Frameworks/R.framework/Resources/bin/R CMD build --keep-empty-dirs --no-resave-data timescape StartedAt: 2025-01-31 09:30:47 -0500 (Fri, 31 Jan 2025) EndedAt: 2025-01-31 09:30:54 -0500 (Fri, 31 Jan 2025) EllapsedTime: 7.8 seconds RetCode: 0 Status: OK PackageFile: timescape_1.30.0.tar.gz PackageFileSize: 672.5 KiB