Package: timescape Version: 1.30.0 Command: /Library/Frameworks/R.framework/Resources/bin/R CMD build --keep-empty-dirs --no-resave-data timescape StartedAt: 2025-02-03 22:56:07 -0500 (Mon, 03 Feb 2025) EndedAt: 2025-02-03 22:56:19 -0500 (Mon, 03 Feb 2025) EllapsedTime: 12.2 seconds RetCode: 0 Status: OK PackageFile: timescape_1.30.0.tar.gz PackageFileSize: 672.6 KiB