Back to the "Multiple platform build/check report"
| Package 4/48 | Hostname | OS | Arch | BUILD | CHECK | BUILD BIN | 
AmpAffyExample1.2.2Rafael A. IrizarryLast Changed Date: 2007-05-13 22:20:57 -0700 Last Changed Rev: 298  | lamb1 | Linux (SUSE 10.1) | x86_64 | OK | OK | |
| lemming | Windows Server 2003 (32-bit) | x64 | [ OK ] | OK | OK | 
| Package: AmpAffyExample | 
| Version: 1.2.2 | 
| Command: D:\biocbld\bbs-2.0-bioc\R\bin\R.exe CMD build AmpAffyExample | 
| RetCode: 0 | 
| Time: 19.1 seconds | 
| Status: OK | 
| PackageFile: AmpAffyExample_1.2.2.tar.gz | 
* checking for file 'AmpAffyExample/DESCRIPTION' ... OK * preparing 'AmpAffyExample': * checking DESCRIPTION meta-information ... OK * removing junk files * checking for LF line-endings in source files * checking for empty or unneeded directories * building 'AmpAffyExample_1.2.2.tar.gz'