Back to the "Multiple platform build/check report"
| Package 24/48 | Hostname | OS | Arch | BUILD | CHECK | BUILD BIN | 
HEEBOdata1.0.0Agnes PaquetLast Changed Date: 2006-09-28 18:17:09 -0700 Last Changed Rev: 142  | lamb1 | Linux (SUSE 10.1) | x86_64 | OK | OK | |
| lemming | Windows Server 2003 (32-bit) | x64 | OK | OK | [ OK ] | 
| Package: HEEBOdata | 
| Version: 1.0.0 | 
| Command: D:\biocbld\bbs-2.0-bioc\R\bin\R.exe CMD INSTALL --build --library=HEEBOdata.buildbin-libdir HEEBOdata_1.0.0.tar.gz | 
| RetCode: 0 | 
| Time: 17.6 seconds | 
| Status: OK | 
| PackageFile: HEEBOdata_1.0.0.zip | 
installing R.css in D:/biocbld/bbs-2.0-data-experiment/meat/HEEBOdata.buildbin-libdir
Using auto-selected zip options 'HEEBOdata-ZIPDATA=zip'
---------- Making package HEEBOdata ------------
  adding build stamp to DESCRIPTION
  no R files in this package
  installing inst files
  installing data files
  installing man source files
  installing indices
  zipping data
  installing help
 >>> Building/Updating help pages for package 'HEEBOdata'
     Formats: text html latex example chm 
  HEEBOdata                         text    html    latex           chm
  StanfordExampleData               text    html    latex           chm
Microsoft HTML Help Compiler 4.74.8702
Compiling d:\biocbld\bbs-2.0-data-experiment\meat\R.INSTALL.5124\HEEBOdata\chm\HEEBOdata.chm
Compile time: 0 minutes, 0 seconds
3	Topics
9	Local links
0	Internet links
1	Graphic
Created d:\biocbld\bbs-2.0-data-experiment\meat\R.INSTALL.5124\HEEBOdata\chm\HEEBOdata.chm, 17,470 bytes
Compression increased file by 7,108 bytes.
  adding MD5 sums
packaged installation of package 'HEEBOdata' as HEEBOdata_1.0.0.zip
* DONE (HEEBOdata)