Back to the "Multiple platform build/check report"
| Package 33/48 | Hostname | OS | Arch | BUILD | CHECK | BUILD BIN |
MAQCsubset1.0.2VJ CareyLast Changed Date: 2007-04-16 16:52:19 -0700 Last Changed Rev: 273 | lamb1 | Linux (SUSE 10.1) | x86_64 | OK | WARNINGS | |
| lemming | Windows Server 2003 (32-bit) | x64 | OK | WARNINGS | [ OK ] |
| Package: MAQCsubset |
| Version: 1.0.2 |
| Command: D:\biocbld\bbs-2.0-bioc\R\bin\R.exe CMD INSTALL --build --library=MAQCsubset.buildbin-libdir MAQCsubset_1.0.2.tar.gz |
| RetCode: 0 |
| Time: 53.9 seconds |
| Status: OK |
| PackageFile: MAQCsubset_1.0.2.zip |
installing R.css in D:/biocbld/bbs-2.0-data-experiment/meat/MAQCsubset.buildbin-libdir
Using auto-selected zip options 'MAQCsubset-ZIPDATA=zip'
---------- Making package MAQCsubset ------------
adding build stamp to DESCRIPTION
installing R files
save image
Loading required package: Biobase
Loading required package: tools
Welcome to Bioconductor
Vignettes contain introductory material. To view, type
'openVignette()'. To cite Bioconductor, see
'citation("Biobase")' and for packages 'citation(pkgname)'.
[1] "proboStruct"
[1] "show"
Creating a new generic function for "plot" in "MAQCsubset"
[1] "plot"
Creating a new generic function for "lines" in "MAQCsubset"
[1] "lines"
installing inst files
installing data files
installing man source files
installing indices
zipping data
installing help
>>> Building/Updating help pages for package 'MAQCsubset'
Formats: text html latex example chm
MAQCsubset text html latex example chm
proboStruct-class text html latex example chm
missing link(s): AssayData-class
Microsoft HTML Help Compiler 4.74.8702
Compiling d:\biocbld\bbs-2.0-data-experiment\meat\R.INSTALL.6364\MAQCsubset\chm\MAQCsubset.chm
Compile time: 0 minutes, 0 seconds
3 Topics
7 Local links
0 Internet links
1 Graphic
Created d:\biocbld\bbs-2.0-data-experiment\meat\R.INSTALL.6364\MAQCsubset\chm\MAQCsubset.chm, 17,223 bytes
Compression increased file by 7,015 bytes.
adding MD5 sums
packaged installation of package 'MAQCsubset' as MAQCsubset_1.0.2.zip
* DONE (MAQCsubset)