Back to the "Multiple platform build/check report"
| Package 34/48 | Hostname | OS | Arch | BUILD | CHECK | BUILD BIN | 
MEEBOdata1.0.0Agnes PaquetLast Changed Date: 2006-09-28 18:17:09 -0700 Last Changed Rev: 142  | lamb1 | Linux (SUSE 10.1) | x86_64 | OK | OK | |
| lemming | Windows Server 2003 (32-bit) | x64 | [ OK ] | OK | OK | 
| Package: MEEBOdata | 
| Version: 1.0.0 | 
| Command: D:\biocbld\bbs-2.0-bioc\R\bin\R.exe CMD build MEEBOdata | 
| RetCode: 0 | 
| Time: 6.5 seconds | 
| Status: OK | 
| PackageFile: MEEBOdata_1.0.0.tar.gz | 
* checking for file 'MEEBOdata/DESCRIPTION' ... OK * preparing 'MEEBOdata': * checking DESCRIPTION meta-information ... OK * removing junk files * checking for LF line-endings in source files * checking for empty or unneeded directories * building 'MEEBOdata_1.0.0.tar.gz'