Back to the "Multiple platform build/check report"
| Package 35/48 | Hostname | OS | Arch | BUILD | CHECK | BUILD BIN |
Neve20060.1.3VJ CareyLast Changed Date: 2007-08-11 05:46:07 -0700 Last Changed Rev: 413 | lamb1 | Linux (SUSE 10.1) | x86_64 | OK | ERROR | |
| lemming | Windows Server 2003 (32-bit) | x64 | [ OK ] | ERROR | OK |
| Package: Neve2006 |
| Version: 0.1.3 |
| Command: D:\biocbld\bbs-2.0-bioc\R\bin\R.exe CMD build Neve2006 |
| RetCode: 0 |
| Time: 49.8 seconds |
| Status: OK |
| PackageFile: Neve2006_0.1.3.tar.gz |
* checking for file 'Neve2006/DESCRIPTION' ... OK
* preparing 'Neve2006':
* checking DESCRIPTION meta-information ... OK
* installing the package to re-build vignettes
installing R.css in D:/biocbld/bbs-2.0-data-experiment/tmpdir/Rinst174400283
---------- Making package Neve2006 ------------
adding build stamp to DESCRIPTION
installing R files
installing inst files
installing data files
preparing package Neve2006 for lazy loading
Loading required package: tools
Loading required package: Biobase
Welcome to Bioconductor
Vignettes contain introductory material. To view, type
'openVignette()'. To cite Bioconductor, see
'citation("Biobase")' and for packages 'citation(pkgname)'.
Loading required package: hgu133a
Loading required package: annotate
installing man source files
installing indices
not zipping data
installing help
>>> Building/Updating help pages for package 'Neve2006'
Formats: text html latex example chm
cghExSet-class text html latex example chm
missing link(s): eSet-class VersionedBiobase-class Versioned-class
logRatios text html latex example chm
neveCGHmatch text html latex example chm
Microsoft HTML Help Compiler 4.74.8702
Compiling d:\biocbld\bbs-2.0-data-experiment\meat\Neve2006\chm\Neve2006.chm
Compile time: 0 minutes, 0 seconds
4 Topics
16 Local links
0 Internet links
1 Graphic
Created d:\biocbld\bbs-2.0-data-experiment\meat\Neve2006\chm\Neve2006.chm, 18,795 bytes
Compression increased file by 3,093 bytes.
adding MD5 sums
* DONE (Neve2006)
* creating vignettes ... OK
* removing junk files
* checking for LF line-endings in source files
* checking for empty or unneeded directories
* building 'Neve2006_0.1.3.tar.gz'