Back to the "Multiple platform build/check report"
| Package 46/48 | Hostname | OS | Arch | BUILD | CHECK | BUILD BIN |
XhybCasneuf1.0.0Tineke CasneufLast Changed Date: 2007-07-06 08:43:53 -0700 Last Changed Rev: 360 | lamb1 | Linux (SUSE 10.1) | x86_64 | OK | OK | |
| lemming | Windows Server 2003 (32-bit) | x64 | [ OK ] | OK | OK |
| Package: XhybCasneuf |
| Version: 1.0.0 |
| Command: D:\biocbld\bbs-2.0-bioc\R\bin\R.exe CMD build XhybCasneuf |
| RetCode: 0 |
| Time: 30.7 seconds |
| Status: OK |
| PackageFile: XhybCasneuf_1.0.0.tar.gz |
* checking for file 'XhybCasneuf/DESCRIPTION' ... OK
* preparing 'XhybCasneuf':
* checking DESCRIPTION meta-information ... OK
* checking whether 'INDEX' is up-to-date ... NO
* use '--force' to overwrite the existing 'INDEX'
* installing the package to re-build vignettes
installing R.css in D:/biocbld/bbs-2.0-data-experiment/tmpdir/Rinst527257910
---------- Making package XhybCasneuf ------------
adding build stamp to DESCRIPTION
installing R files
installing inst files
installing data files
installing man source files
installing indices
not zipping data
installing help
>>> Building/Updating help pages for package 'XhybCasneuf'
Formats: text html latex example chm
AffysTissue text html latex example chm
CustomsTissue text html latex example chm
XhybExamples-class text html latex example chm
ex1 text html latex example chm
plotExample text html latex example chm
runSimulation text html latex example chm
Microsoft HTML Help Compiler 4.74.8702
Compiling d:\biocbld\bbs-2.0-data-experiment\meat\XhybCasneuf\chm\XhybCasneuf.chm
Compile time: 0 minutes, 0 seconds
7 Topics
17 Local links
0 Internet links
1 Graphic
Created d:\biocbld\bbs-2.0-data-experiment\meat\XhybCasneuf\chm\XhybCasneuf.chm, 20,564 bytes
Compression decreased file by 873 bytes.
adding MD5 sums
* DONE (XhybCasneuf)
* creating vignettes ... OK
* removing junk files
* checking for LF line-endings in source files
* checking for empty or unneeded directories
* building 'XhybCasneuf_1.0.0.tar.gz'