Back to the "Multiple platform build/check report"
| Package 10/48 | Hostname | OS | Arch | BUILD | CHECK | BUILD BIN |
davidTiling1.2.4Wolfgang HuberLast Changed Date: 2007-04-15 15:31:28 -0700 Last Changed Rev: 258 | lamb1 | Linux (SUSE 10.1) | x86_64 | OK | OK | |
| lemming | Windows Server 2003 (32-bit) | x64 | OK | OK | [ OK ] |
| Package: davidTiling |
| Version: 1.2.4 |
| Command: D:\biocbld\bbs-2.0-bioc\R\bin\R.exe CMD INSTALL --build --library=davidTiling.buildbin-libdir davidTiling_1.2.4.tar.gz |
| RetCode: 0 |
| Time: 320.7 seconds |
| Status: OK |
| PackageFile: davidTiling_1.2.4.zip |
installing R.css in D:/biocbld/bbs-2.0-data-experiment/meat/davidTiling.buildbin-libdir
Using auto-selected zip options 'davidTiling-ZIPDATA=zip'
---------- Making package davidTiling ------------
adding build stamp to DESCRIPTION
installing NAMESPACE file and metadata
installing R files
save image
Loading required package: Biobase
Loading required package: tools
Welcome to Bioconductor
Vignettes contain introductory material. To view, type
'openVignette()'. To cite Bioconductor, see
'citation("Biobase")' and for packages 'citation(pkgname)'.
Loading required package: tilingArray
Loading required package: affy
Loading required package: affyio
Loading required package: RColorBrewer
Loading required package: grid
Loading required package: strucchange
Loading required package: zoo
Attaching package: 'zoo'
The following object(s) are masked from package:base :
rapply
Loading required package: sandwich
Loading required package: vsn
Loading required package: limma
Loading required package: genefilter
Loading required package: survival
Loading required package: splines
Loading required package: geneplotter
Loading required package: annotate
Loading required package: lattice
KernSmooth 2.22 installed
Copyright M. P. Wand 1997
Loading required package: pixmap
Loading required package: GO
installing inst files
installing data files
installing man source files
installing indices
Loading required package: methods
zipping data
installing help
>>> Building/Updating help pages for package 'davidTiling'
Formats: text html latex example chm
GOHyperG text html latex example chm
davidTiling text html latex example chm
getAttributeField text html latex example chm
getGO text html latex example chm
gff text html latex example chm
probeAnno text html latex example chm
scatterWithHist text html latex example chm
scoreSegments text html latex example chm
showDens text html latex example chm
yeastFeatures text html latex example chm
Microsoft HTML Help Compiler 4.74.8702
Compiling d:\biocbld\bbs-2.0-data-experiment\meat\R.INSTALL.4260\davidTiling\chm\davidTiling.chm
Compile time: 0 minutes, 0 seconds
11 Topics
28 Local links
0 Internet links
1 Graphic
Created d:\biocbld\bbs-2.0-data-experiment\meat\R.INSTALL.4260\davidTiling\chm\davidTiling.chm, 28,042 bytes
Compression decreased file by 6,070 bytes.
adding MD5 sums
packaged installation of package 'davidTiling' as davidTiling_1.2.4.zip
* DONE (davidTiling)