Back to the "Multiple platform build/check report"
| Package 11/48 | Hostname | OS | Arch | BUILD | CHECK | BUILD BIN | 
ecoliLeucine1.2.1Laurent GautierLast Changed Date: 2007-04-19 16:52:19 -0700 Last Changed Rev: 288  | lamb1 | Linux (SUSE 10.1) | x86_64 | OK | OK | |
| lemming | Windows Server 2003 (32-bit) | x64 | [ OK ] | OK | OK | 
| Package: ecoliLeucine | 
| Version: 1.2.1 | 
| Command: D:\biocbld\bbs-2.0-bioc\R\bin\R.exe CMD build ecoliLeucine | 
| RetCode: 0 | 
| Time: 5.5 seconds | 
| Status: OK | 
| PackageFile: ecoliLeucine_1.2.1.tar.gz | 
* checking for file 'ecoliLeucine/DESCRIPTION' ... OK * preparing 'ecoliLeucine': * checking DESCRIPTION meta-information ... OK * removing junk files * checking for LF line-endings in source files * checking for empty or unneeded directories * building 'ecoliLeucine_1.2.1.tar.gz'