Back to the "Multiple platform build/check report"
| Package 15/48 | Hostname | OS | Arch | BUILD | CHECK | BUILD BIN |
fibroEset1.4.2Sylvia MerkLast Changed Date: 2007-04-15 15:23:07 -0700 Last Changed Rev: 257 | lamb1 | Linux (SUSE 10.1) | x86_64 | OK | OK | |
| lemming | Windows Server 2003 (32-bit) | x64 | OK | OK | [ OK ] |
| Package: fibroEset |
| Version: 1.4.2 |
| Command: D:\biocbld\bbs-2.0-bioc\R\bin\R.exe CMD INSTALL --build --library=fibroEset.buildbin-libdir fibroEset_1.4.2.tar.gz |
| RetCode: 0 |
| Time: 11.5 seconds |
| Status: OK |
| PackageFile: fibroEset_1.4.2.zip |
installing R.css in D:/biocbld/bbs-2.0-data-experiment/meat/fibroEset.buildbin-libdir
Using auto-selected zip options 'fibroEset-ZIPDATA=zip'
---------- Making package fibroEset ------------
adding build stamp to DESCRIPTION
installing R files
installing data files
installing man source files
installing indices
Loading required package: methods
zipping data
installing help
>>> Building/Updating help pages for package 'fibroEset'
Formats: text html latex example chm
fibroEset text html latex example chm
Microsoft HTML Help Compiler 4.74.8702
Compiling d:\biocbld\bbs-2.0-data-experiment\meat\R.INSTALL.6920\fibroEset\chm\fibroEset.chm
Compile time: 0 minutes, 0 seconds
2 Topics
2 Local links
1 Internet link
1 Graphic
Created d:\biocbld\bbs-2.0-data-experiment\meat\R.INSTALL.6920\fibroEset\chm\fibroEset.chm, 18,054 bytes
Compression increased file by 9,664 bytes.
adding MD5 sums
packaged installation of package 'fibroEset' as fibroEset_1.4.2.zip
* DONE (fibroEset)