Back to the "Multiple platform build/check report"
| Package 16/48 | Hostname | OS | Arch | BUILD | CHECK | BUILD BIN | 
gaschYHS1.0.0Vince CareyLast Changed Date: 2006-10-10 12:38:08 -0700 Last Changed Rev: 163  | lamb1 | Linux (SUSE 10.1) | x86_64 | OK | OK | |
| lemming | Windows Server 2003 (32-bit) | x64 | OK | OK | [ OK ] | 
| Package: gaschYHS | 
| Version: 1.0.0 | 
| Command: D:\biocbld\bbs-2.0-bioc\R\bin\R.exe CMD INSTALL --build --library=gaschYHS.buildbin-libdir gaschYHS_1.0.0.tar.gz | 
| RetCode: 0 | 
| Time: 171.8 seconds | 
| Status: OK | 
| PackageFile: gaschYHS_1.0.0.zip | 
installing R.css in D:/biocbld/bbs-2.0-data-experiment/meat/gaschYHS.buildbin-libdir
Using auto-selected zip options 'gaschYHS-ZIPDATA=zip'
---------- Making package gaschYHS ------------
  adding build stamp to DESCRIPTION
  no R files in this package
  installing data files
  installing man source files
  installing indices
  zipping data
  installing help
 >>> Building/Updating help pages for package 'gaschYHS'
     Formats: text html latex example chm 
  gaschYHS                          text    html    latex   example chm
Microsoft HTML Help Compiler 4.74.8702
Compiling d:\biocbld\bbs-2.0-data-experiment\meat\R.INSTALL.7460\gaschYHS\chm\gaschYHS.chm
Compile time: 0 minutes, 0 seconds
2	Topics
2	Local links
1	Internet link
1	Graphic
Created d:\biocbld\bbs-2.0-data-experiment\meat\R.INSTALL.7460\gaschYHS\chm\gaschYHS.chm, 16,273 bytes
Compression increased file by 8,916 bytes.
  adding MD5 sums
packaged installation of package 'gaschYHS' as gaschYHS_1.0.0.zip
* DONE (gaschYHS)