Back to the "Multiple platform build/check report"
| Package 23/48 | Hostname | OS | Arch | BUILD | CHECK | BUILD BIN |
harbChIP0.0.1VJ CareyLast Changed Date: 2007-01-10 09:58:17 -0800 Last Changed Rev: 228 | lamb1 | Linux (SUSE 10.1) | x86_64 | OK | OK | |
| lemming | Windows Server 2003 (32-bit) | x64 | OK | [ OK ] | OK |
| Package: harbChIP |
| Version: 0.0.1 |
| Command: D:\biocbld\bbs-2.0-bioc\R\bin\R.exe CMD check harbChIP_0.0.1.tar.gz |
| RetCode: 0 |
| Time: 46.9 seconds |
| Status: OK |
| CheckDir: harbChIP.Rcheck |
| Warnings: 0 |
* checking for working latex ... OK * using log directory 'D:/biocbld/bbs-2.0-data-experiment/meat/harbChIP.Rcheck' * using R version 2.5.1 (2007-06-27) * checking for file 'harbChIP/DESCRIPTION' ... OK * this is package 'harbChIP' version '0.0.1' * checking package dependencies ... OK * checking if this is a source package ... OK * checking whether package 'harbChIP' can be installed ... OK * checking package directory ... OK * checking for portable file names ... OK * checking DESCRIPTION meta-information ... OK * checking top-level files ... OK * checking index information ... OK * checking package subdirectories ... OK * checking whether the package can be loaded ... OK * checking whether the package can be loaded with stated dependencies ... OK * checking Rd files ... OK * checking Rd cross-references ... OK * checking for missing documentation entries ... OK * checking for code/documentation mismatches ... OK * checking Rd \usage sections ... OK * checking data for non-ASCII characters ... OK * creating harbChIP-Ex.R ... OK * checking examples ... OK * creating harbChIP-manual.tex ... OK * checking harbChIP-manual.tex ... OK
harbChIP.Rcheck/00install.out:
installing R.css in D:/biocbld/bbs-2.0-data-experiment/meat/harbChIP.Rcheck
---------- Making package harbChIP ------------
adding build stamp to DESCRIPTION
no R files in this package
installing data files
installing man source files
installing indices
Loading required package: methods
not zipping data
installing help
>>> Building/Updating help pages for package 'harbChIP'
Formats: text html latex example chm
harbChIP text html latex example chm
Microsoft HTML Help Compiler 4.74.8702
Compiling d:\biocbld\bbs-2.0-data-experiment\meat\harbChIP.Rcheck\00_pkg_src\harbChIP\chm\harbChIP.chm
Compile time: 0 minutes, 0 seconds
2 Topics
3 Local links
0 Internet links
1 Graphic
Created d:\biocbld\bbs-2.0-data-experiment\meat\harbChIP.Rcheck\00_pkg_src\harbChIP\chm\harbChIP.chm, 15,633 bytes
Compression increased file by 9,108 bytes.
adding MD5 sums
* DONE (harbChIP)