Back to the "Multiple platform build/check report"
| Package 32/48 | Hostname | OS | Arch | BUILD | CHECK | BUILD BIN |
maqcExpression4plex1.2Benilton CarvalhoLast Changed Date: 2007-07-28 14:59:14 -0700 Last Changed Rev: 399 | lamb1 | Linux (SUSE 10.1) | x86_64 | OK | OK | |
| lemming | Windows Server 2003 (32-bit) | x64 | OK | OK | [ OK ] |
| Package: maqcExpression4plex |
| Version: 1.2 |
| Command: D:\biocbld\bbs-2.0-bioc\R\bin\R.exe CMD INSTALL --build --library=maqcExpression4plex.buildbin-libdir maqcExpression4plex_1.2.tar.gz |
| RetCode: 0 |
| Time: 18.5 seconds |
| Status: OK |
| PackageFile: maqcExpression4plex_1.2.zip |
installing R.css in D:/biocbld/bbs-2.0-data-experiment/meat/maqcExpression4plex.buildbin-libdir
Using auto-selected zip options ''
---------- Making package maqcExpression4plex ------------
adding build stamp to DESCRIPTION
installing R files
installing inst files
installing man source files
installing indices
installing help
>>> Building/Updating help pages for package 'maqcExpression4plex'
Formats: text html latex example chm
maqcExpression4plex-package text html latex example chm
Microsoft HTML Help Compiler 4.74.8702
Compiling d:\biocbld\bbs-2.0-data-experiment\meat\R.INSTALL.4344\maqcExpression4plex\chm\maqcExpression4plex.chm
Compile time: 0 minutes, 0 seconds
2 Topics
3 Local links
0 Internet links
1 Graphic
Created d:\biocbld\bbs-2.0-data-experiment\meat\R.INSTALL.4344\maqcExpression4plex\chm\maqcExpression4plex.chm, 15,870 bytes
Compression increased file by 8,451 bytes.
adding MD5 sums
packaged installation of package 'maqcExpression4plex' as maqcExpression4plex_1.2.zip
* DONE (maqcExpression4plex)