Back to the "Multiple platform build/check report"
| Package 38/48 | Hostname | OS | Arch | BUILD | CHECK | BUILD BIN | 
pumadata1.0.0Richard PearsonLast Changed Date: 2007-04-20 14:01:20 -0700 Last Changed Rev: 289  | lamb1 | Linux (SUSE 10.1) | x86_64 | OK | OK | |
| lemming | Windows Server 2003 (32-bit) | x64 | [ OK ] | OK | OK | 
| Package: pumadata | 
| Version: 1.0.0 | 
| Command: D:\biocbld\bbs-2.0-bioc\R\bin\R.exe CMD build pumadata | 
| RetCode: 0 | 
| Time: 24.8 seconds | 
| Status: OK | 
| PackageFile: pumadata_1.0.0.tar.gz | 
* checking for file 'pumadata/DESCRIPTION' ... OK
* preparing 'pumadata':
* checking DESCRIPTION meta-information ... OK
* installing the package to re-build vignettes
installing R.css in D:/biocbld/bbs-2.0-data-experiment/tmpdir/Rinst252862881
---------- Making package pumadata ------------
  adding build stamp to DESCRIPTION
  installing R files
  installing inst files
  installing data files
  installing man source files
  installing indices
  not zipping data
  installing help
 >>> Building/Updating help pages for package 'pumadata'
     Formats: text html latex example chm 
  affybatch.estrogen                text    html    latex           chm
  eset_estrogen_comb                text    html    latex   example chm
  eset_estrogen_mmgmos              text    html    latex   example chm
  eset_estrogen_rma                 text    html    latex   example chm
  pumapca_estrogen                  text    html    latex   example chm
Microsoft HTML Help Compiler 4.74.8702
Compiling d:\biocbld\bbs-2.0-data-experiment\meat\pumadata\chm\pumadata.chm
Compile time: 0 minutes, 1 second
6	Topics
16	Local links
0	Internet links
1	Graphic
Created d:\biocbld\bbs-2.0-data-experiment\meat\pumadata\chm\pumadata.chm, 19,103 bytes
Compression decreased file by 80 bytes.
  adding MD5 sums
* DONE (pumadata)
* creating vignettes ... OK
* removing junk files
* checking for LF line-endings in source files
* checking for empty or unneeded directories
* building 'pumadata_1.0.0.tar.gz'