Back to the "Multiple platform build/check report"
| Package 45/48 | Hostname | OS | Arch | BUILD | CHECK | BUILD BIN | 
tinesath1probe1.0.2Tine CasneufLast Changed Date: 2007-07-06 08:50:55 -0700 Last Changed Rev: 364  | lamb1 | Linux (SUSE 10.1) | x86_64 | OK | OK | |
| lemming | Windows Server 2003 (32-bit) | x64 | OK | OK | [ OK ] | 
| Package: tinesath1probe | 
| Version: 1.0.2 | 
| Command: D:\biocbld\bbs-2.0-bioc\R\bin\R.exe CMD INSTALL --build --library=tinesath1probe.buildbin-libdir tinesath1probe_1.0.2.tar.gz | 
| RetCode: 0 | 
| Time: 9.0 seconds | 
| Status: OK | 
| PackageFile: tinesath1probe_1.0.2.zip | 
installing R.css in D:/biocbld/bbs-2.0-data-experiment/meat/tinesath1probe.buildbin-libdir
Using auto-selected zip options 'tinesath1probe-ZIPDATA=zip'
---------- Making package tinesath1probe ------------
  adding build stamp to DESCRIPTION
  installing R files
  installing data files
  installing man source files
  installing indices
  zipping data
  installing help
 >>> Building/Updating help pages for package 'tinesath1probe'
     Formats: text html latex example chm 
  tinesath1probe                    text    html    latex   example chm
Microsoft HTML Help Compiler 4.74.8702
Compiling d:\biocbld\bbs-2.0-data-experiment\meat\R.INSTALL.5080\tinesath1probe\chm\tinesath1probe.chm
Compile time: 0 minutes, 0 seconds
2	Topics
2	Local links
0	Internet links
1	Graphic
Created d:\biocbld\bbs-2.0-data-experiment\meat\R.INSTALL.5080\tinesath1probe\chm\tinesath1probe.chm, 15,857 bytes
Compression increased file by 8,574 bytes.
  adding MD5 sums
packaged installation of package 'tinesath1probe' as tinesath1probe_1.0.2.zip
* DONE (tinesath1probe)