Back to the "Multiple platform build/check report"
| Package 47/48 | Hostname | OS | Arch | BUILD | CHECK | BUILD BIN |
yeastCC1.2.6Sandrine DudoitLast Changed Date: 2007-07-25 14:06:01 -0700 Last Changed Rev: 397 | lamb1 | Linux (SUSE 10.1) | x86_64 | OK | OK | |
| lemming | Windows Server 2003 (32-bit) | x64 | OK | [ OK ] | OK |
| Package: yeastCC |
| Version: 1.2.6 |
| Command: D:\biocbld\bbs-2.0-bioc\R\bin\R.exe CMD check yeastCC_1.2.6.tar.gz |
| RetCode: 0 |
| Time: 63.9 seconds |
| Status: OK |
| CheckDir: yeastCC.Rcheck |
| Warnings: 0 |
* checking for working latex ... OK * using log directory 'D:/biocbld/bbs-2.0-data-experiment/meat/yeastCC.Rcheck' * using R version 2.5.1 (2007-06-27) * checking for file 'yeastCC/DESCRIPTION' ... OK * this is package 'yeastCC' version '1.2.6' * checking package dependencies ... OK * checking if this is a source package ... OK * checking whether package 'yeastCC' can be installed ... OK * checking package directory ... OK * checking for portable file names ... OK * checking DESCRIPTION meta-information ... OK * checking top-level files ... OK * checking index information ... OK * checking package subdirectories ... OK * checking R files for non-ASCII characters ... OK * checking R files for syntax errors ... OK * checking whether the package can be loaded ... OK * checking whether the package can be loaded with stated dependencies ... OK * checking for unstated dependencies in R code ... OK * checking S3 generic/method consistency ... OK * checking replacement functions ... OK * checking foreign function calls ... OK * checking R code for possible problems ... OK * checking Rd files ... OK * checking Rd cross-references ... OK * checking for missing documentation entries ... OK * checking for code/documentation mismatches ... OK * checking Rd \usage sections ... OK * checking data for non-ASCII characters ... OK * creating yeastCC-Ex.R ... OK * checking examples ... OK * creating yeastCC-manual.tex ... OK * checking yeastCC-manual.tex ... OK
yeastCC.Rcheck/00install.out:
installing R.css in D:/biocbld/bbs-2.0-data-experiment/meat/yeastCC.Rcheck
---------- Making package yeastCC ------------
adding build stamp to DESCRIPTION
installing R files
installing inst files
installing data files
preparing package yeastCC for lazy data loading
installing man source files
installing indices
installing help
>>> Building/Updating help pages for package 'yeastCC'
Formats: text html latex example chm
orf800 text html latex example chm
spYCCmeta text html latex example chm
yeastCC text html latex example chm
Microsoft HTML Help Compiler 4.74.8702
Compiling d:\biocbld\bbs-2.0-data-experiment\meat\yeastCC.Rcheck\00_pkg_src\yeastCC\chm\yeastCC.chm
Compile time: 0 minutes, 0 seconds
4 Topics
9 Local links
5 Internet links
1 Graphic
Created d:\biocbld\bbs-2.0-data-experiment\meat\yeastCC.Rcheck\00_pkg_src\yeastCC\chm\yeastCC.chm, 26,426 bytes
Compression decreased file by 2,091 bytes.
adding MD5 sums
* DONE (yeastCC)