Back to the "Multiple platform build/check report"
| Package 48/48 | Hostname | OS | Arch | BUILD | CHECK | BUILD BIN | 
yeastExpData0.8.4R. GentlemanLast Changed Date: 2007-04-15 20:36:55 -0700 Last Changed Rev: 266  | lamb1 | Linux (SUSE 10.1) | x86_64 | OK | WARNINGS | |
| lemming | Windows Server 2003 (32-bit) | x64 | [ OK ] | WARNINGS | OK | 
| Package: yeastExpData | 
| Version: 0.8.4 | 
| Command: D:\biocbld\bbs-2.0-bioc\R\bin\R.exe CMD build yeastExpData | 
| RetCode: 0 | 
| Time: 59.4 seconds | 
| Status: OK | 
| PackageFile: yeastExpData_0.8.4.tar.gz | 
* checking for file 'yeastExpData/DESCRIPTION' ... OK
* preparing 'yeastExpData':
* checking DESCRIPTION meta-information ... OK
* installing the package to re-build vignettes
installing R.css in D:/biocbld/bbs-2.0-data-experiment/tmpdir/Rinst348469970
---------- Making package yeastExpData ------------
  adding build stamp to DESCRIPTION
  no R files in this package
  installing inst files
  installing data files
  installing man source files
  installing indices
  not zipping data
  installing help
 >>> Building/Updating help pages for package 'yeastExpData'
     Formats: text html latex example chm 
  ccyclered                         text    html    latex   example chm
  fcabundance                       text    html    latex   example chm
  gfp                               text    html    latex   example chm
  nPdist                            text    html    latex   example chm
  proteinProperties                 text    html    latex   example chm
Microsoft HTML Help Compiler 4.74.8702
Compiling d:\biocbld\bbs-2.0-data-experiment\meat\yeastExpData\chm\yeastExpData.chm
Compile time: 0 minutes, 0 seconds
6	Topics
10	Local links
7	Internet links
1	Graphic
Created d:\biocbld\bbs-2.0-data-experiment\meat\yeastExpData\chm\yeastExpData.chm, 27,365 bytes
Compression increased file by 1,852 bytes.
  adding MD5 sums
* DONE (yeastExpData)
* creating vignettes ... OK
* removing junk files
* checking for LF line-endings in source files
* checking for empty or unneeded directories
* building 'yeastExpData_0.8.4.tar.gz'